BEGIN:VCALENDAR
VERSION:2.0
PRODID:-//Proactive Self Defence - ECPv6.15.17.1//NONSGML v1.0//EN
CALSCALE:GREGORIAN
METHOD:PUBLISH
X-WR-CALNAME:Proactive Self Defence
X-ORIGINAL-URL:https://proactiveselfdefence.com
X-WR-CALDESC:Events for Proactive Self Defence
REFRESH-INTERVAL;VALUE=DURATION:PT1H
X-Robots-Tag:noindex
X-PUBLISHED-TTL:PT1H
BEGIN:VTIMEZONE
TZID:Australia/Melbourne
BEGIN:STANDARD
TZOFFSETFROM:+1100
TZOFFSETTO:+1000
TZNAME:AEST
DTSTART:20170401T160000
END:STANDARD
BEGIN:DAYLIGHT
TZOFFSETFROM:+1000
TZOFFSETTO:+1100
TZNAME:AEDT
DTSTART:20170930T160000
END:DAYLIGHT
BEGIN:STANDARD
TZOFFSETFROM:+1100
TZOFFSETTO:+1000
TZNAME:AEST
DTSTART:20180331T160000
END:STANDARD
BEGIN:DAYLIGHT
TZOFFSETFROM:+1000
TZOFFSETTO:+1100
TZNAME:AEDT
DTSTART:20181006T160000
END:DAYLIGHT
BEGIN:STANDARD
TZOFFSETFROM:+1100
TZOFFSETTO:+1000
TZNAME:AEST
DTSTART:20190406T160000
END:STANDARD
BEGIN:DAYLIGHT
TZOFFSETFROM:+1000
TZOFFSETTO:+1100
TZNAME:AEDT
DTSTART:20191005T160000
END:DAYLIGHT
END:VTIMEZONE
BEGIN:VEVENT
DTSTART;VALUE=DATE:20181102
DTEND;VALUE=DATE:20181103
DTSTAMP:20260425T064025
CREATED:20180717T090254Z
LAST-MODIFIED:20181009T070435Z
UID:9664-1541116800-1541203199@proactiveselfdefence.com
SUMMARY:Black & Dan Squad Session
DESCRIPTION:
URL:https://proactiveselfdefence.com/event/black-dan-squad-session-5/
LOCATION:Victoria
END:VEVENT
BEGIN:VEVENT
DTSTART;VALUE=DATE:20181106
DTEND;VALUE=DATE:20181107
DTSTAMP:20260425T064025
CREATED:20171205T081730Z
LAST-MODIFIED:20180410T093128Z
UID:9547-1541462400-1541548799@proactiveselfdefence.com
SUMMARY:ACADEMY CLOSED: Melbourne Cup
DESCRIPTION:
URL:https://proactiveselfdefence.com/event/melbourne-cup/
LOCATION:Victoria
END:VEVENT
BEGIN:VEVENT
DTSTART;VALUE=DATE:20181116
DTEND;VALUE=DATE:20181117
DTSTAMP:20260425T064025
CREATED:20180717T090405Z
LAST-MODIFIED:20180717T090405Z
UID:9666-1542326400-1542412799@proactiveselfdefence.com
SUMMARY:Black & Dan Squad Session
DESCRIPTION:
URL:https://proactiveselfdefence.com/event/black-dan-squad-session-6/
LOCATION:Victoria
END:VEVENT
BEGIN:VEVENT
DTSTART;VALUE=DATE:20181123
DTEND;VALUE=DATE:20181124
DTSTAMP:20260425T064025
CREATED:20180703T103445Z
LAST-MODIFIED:20180703T103445Z
UID:9650-1542931200-1543017599@proactiveselfdefence.com
SUMMARY:Black & Dan Grading
DESCRIPTION:
URL:https://proactiveselfdefence.com/event/black-dan-grading-5/
LOCATION:Victoria
END:VEVENT
BEGIN:VEVENT
DTSTART;VALUE=DATE:20181124
DTEND;VALUE=DATE:20181125
DTSTAMP:20260425T064025
CREATED:20180703T103238Z
LAST-MODIFIED:20181113T090956Z
UID:9646-1543017600-1543103999@proactiveselfdefence.com
SUMMARY:AFMA Grading
DESCRIPTION:  
URL:https://proactiveselfdefence.com/event/afma-grading-9/
LOCATION:Victoria
END:VEVENT
BEGIN:VEVENT
DTSTART;VALUE=DATE:20181126
DTEND;VALUE=DATE:20181127
DTSTAMP:20260425T064025
CREATED:20180703T103344Z
LAST-MODIFIED:20181113T091130Z
UID:9648-1543190400-1543276799@proactiveselfdefence.com
SUMMARY:Little Dragons Grading
DESCRIPTION:   
URL:https://proactiveselfdefence.com/event/little-dragons-grading-8/
LOCATION:Victoria
END:VEVENT
END:VCALENDAR