BEGIN:VCALENDAR
VERSION:2.0
PRODID:-//Proactive Self Defence - ECPv6.15.17.1//NONSGML v1.0//EN
CALSCALE:GREGORIAN
METHOD:PUBLISH
X-ORIGINAL-URL:https://proactiveselfdefence.com
X-WR-CALDESC:Events for Proactive Self Defence
REFRESH-INTERVAL;VALUE=DURATION:PT1H
X-Robots-Tag:noindex
X-PUBLISHED-TTL:PT1H
BEGIN:VTIMEZONE
TZID:Australia/Melbourne
BEGIN:STANDARD
TZOFFSETFROM:+1100
TZOFFSETTO:+1000
TZNAME:AEST
DTSTART:20180331T160000
END:STANDARD
BEGIN:DAYLIGHT
TZOFFSETFROM:+1000
TZOFFSETTO:+1100
TZNAME:AEDT
DTSTART:20181006T160000
END:DAYLIGHT
BEGIN:STANDARD
TZOFFSETFROM:+1100
TZOFFSETTO:+1000
TZNAME:AEST
DTSTART:20190406T160000
END:STANDARD
BEGIN:DAYLIGHT
TZOFFSETFROM:+1000
TZOFFSETTO:+1100
TZNAME:AEDT
DTSTART:20191005T160000
END:DAYLIGHT
BEGIN:STANDARD
TZOFFSETFROM:+1100
TZOFFSETTO:+1000
TZNAME:AEST
DTSTART:20200404T160000
END:STANDARD
BEGIN:DAYLIGHT
TZOFFSETFROM:+1000
TZOFFSETTO:+1100
TZNAME:AEDT
DTSTART:20201003T160000
END:DAYLIGHT
END:VTIMEZONE
BEGIN:VEVENT
DTSTART;TZID=Australia/Melbourne:20190303T080000
DTEND;TZID=Australia/Melbourne:20190303T170000
DTSTAMP:20260425T000049
CREATED:20190312T092745Z
LAST-MODIFIED:20190312T092907Z
UID:9798-1551600000-1551632400@proactiveselfdefence.com
SUMMARY:Gym Spar
DESCRIPTION:Gym Spar in St Albans
URL:https://proactiveselfdefence.com/event/gym-spar-3/
LOCATION:Victoria
END:VEVENT
BEGIN:VEVENT
DTSTART;TZID=Australia/Melbourne:20190304T173000
DTEND;TZID=Australia/Melbourne:20190304T183000
DTSTAMP:20260425T000049
CREATED:20190312T092831Z
LAST-MODIFIED:20190312T092831Z
UID:9799-1551720600-1551724200@proactiveselfdefence.com
SUMMARY:Bully Proof Kids Seminar
DESCRIPTION:Bully Proof Kids Seminar \n5:30-6:30pm
URL:https://proactiveselfdefence.com/event/bully-proof-kids-seminar/
LOCATION:Victoria
END:VEVENT
BEGIN:VEVENT
DTSTART;TZID=Australia/Melbourne:20190306T080000
DTEND;TZID=Australia/Melbourne:20190306T170000
DTSTAMP:20260425T000049
CREATED:20190312T092928Z
LAST-MODIFIED:20190312T092928Z
UID:9800-1551859200-1551891600@proactiveselfdefence.com
SUMMARY:Womans Self Defence
DESCRIPTION:
URL:https://proactiveselfdefence.com/event/womans-self-defence/
LOCATION:Victoria
END:VEVENT
BEGIN:VEVENT
DTSTART;VALUE=DATE:20190311
DTEND;VALUE=DATE:20190312
DTSTAMP:20260425T000049
CREATED:20180918T090417Z
LAST-MODIFIED:20180918T090417Z
UID:9694-1552262400-1552348799@proactiveselfdefence.com
SUMMARY:Labour Day
DESCRIPTION:
URL:https://proactiveselfdefence.com/event/labour-day-3/
LOCATION:Victoria
END:VEVENT
BEGIN:VEVENT
DTSTART;TZID=Australia/Melbourne:20190312T080000
DTEND;TZID=Australia/Melbourne:20190312T170000
DTSTAMP:20260425T000049
CREATED:20190312T094126Z
LAST-MODIFIED:20190312T094325Z
UID:9812-1552377600-1552410000@proactiveselfdefence.com
SUMMARY:Boxing Grading
DESCRIPTION:
URL:https://proactiveselfdefence.com/event/boxing-grading-3/
LOCATION:Victoria
END:VEVENT
BEGIN:VEVENT
DTSTART;TZID=Australia/Melbourne:20190314T183000
DTEND;TZID=Australia/Melbourne:20190314T193000
DTSTAMP:20260425T000049
CREATED:20190312T093004Z
LAST-MODIFIED:20190312T093004Z
UID:9801-1552588200-1552591800@proactiveselfdefence.com
SUMMARY:Worlds Greatest Shave
DESCRIPTION:Worlds Greatest Shave 6:30-7:30pm on Academy 13th Birthday
URL:https://proactiveselfdefence.com/event/worlds-greatest-shave/
LOCATION:Victoria
END:VEVENT
BEGIN:VEVENT
DTSTART;TZID=Australia/Melbourne:20190323T080000
DTEND;TZID=Australia/Melbourne:20190323T170000
DTSTAMP:20260425T000049
CREATED:20190312T093039Z
LAST-MODIFIED:20190312T093039Z
UID:9802-1553328000-1553360400@proactiveselfdefence.com
SUMMARY:ISKA Awards NIght
DESCRIPTION:(Greensborough RSL)
URL:https://proactiveselfdefence.com/event/iska-awards-night/
LOCATION:Victoria
END:VEVENT
BEGIN:VEVENT
DTSTART;TZID=Australia/Melbourne:20190324T080000
DTEND;TZID=Australia/Melbourne:20190324T170000
DTSTAMP:20260425T000049
CREATED:20190312T093115Z
LAST-MODIFIED:20190312T093115Z
UID:9803-1553414400-1553446800@proactiveselfdefence.com
SUMMARY:ISKA Tournament for XMA
DESCRIPTION:Reservoir
URL:https://proactiveselfdefence.com/event/iska-tournament-for-xma/
LOCATION:Victoria
END:VEVENT
BEGIN:VEVENT
DTSTART;TZID=Australia/Melbourne:20190329T130000
DTEND;TZID=Australia/Melbourne:20190329T170000
DTSTAMP:20260425T000049
CREATED:20190312T093317Z
LAST-MODIFIED:20190312T093339Z
UID:9804-1553864400-1553878800@proactiveselfdefence.com
SUMMARY:AFMA Grading
DESCRIPTION:
URL:https://proactiveselfdefence.com/event/afma-grading-10/
LOCATION:Victoria
END:VEVENT
END:VCALENDAR