BEGIN:VCALENDAR
VERSION:2.0
PRODID:-//Proactive Self Defence - ECPv6.15.17.1//NONSGML v1.0//EN
CALSCALE:GREGORIAN
METHOD:PUBLISH
X-WR-CALNAME:Proactive Self Defence
X-ORIGINAL-URL:https://proactiveselfdefence.com
X-WR-CALDESC:Events for Proactive Self Defence
REFRESH-INTERVAL;VALUE=DURATION:PT1H
X-Robots-Tag:noindex
X-PUBLISHED-TTL:PT1H
BEGIN:VTIMEZONE
TZID:Australia/Melbourne
BEGIN:STANDARD
TZOFFSETFROM:+1100
TZOFFSETTO:+1000
TZNAME:AEST
DTSTART:20180331T160000
END:STANDARD
BEGIN:DAYLIGHT
TZOFFSETFROM:+1000
TZOFFSETTO:+1100
TZNAME:AEDT
DTSTART:20181006T160000
END:DAYLIGHT
BEGIN:STANDARD
TZOFFSETFROM:+1100
TZOFFSETTO:+1000
TZNAME:AEST
DTSTART:20190406T160000
END:STANDARD
BEGIN:DAYLIGHT
TZOFFSETFROM:+1000
TZOFFSETTO:+1100
TZNAME:AEDT
DTSTART:20191005T160000
END:DAYLIGHT
BEGIN:STANDARD
TZOFFSETFROM:+1100
TZOFFSETTO:+1000
TZNAME:AEST
DTSTART:20200404T160000
END:STANDARD
BEGIN:DAYLIGHT
TZOFFSETFROM:+1000
TZOFFSETTO:+1100
TZNAME:AEDT
DTSTART:20201003T160000
END:DAYLIGHT
END:VTIMEZONE
BEGIN:VEVENT
DTSTART;TZID=Australia/Melbourne:20190401T160000
DTEND;TZID=Australia/Melbourne:20190401T170000
DTSTAMP:20260424T222346
CREATED:20190312T093728Z
LAST-MODIFIED:20190312T093728Z
UID:9811-1554134400-1554138000@proactiveselfdefence.com
SUMMARY:Little Dragons Grading
DESCRIPTION:
URL:https://proactiveselfdefence.com/event/little-dragons-grading-9/
LOCATION:Victoria
END:VEVENT
BEGIN:VEVENT
DTSTART;TZID=Australia/Melbourne:20190406T130000
DTEND;TZID=Australia/Melbourne:20190406T170000
DTSTAMP:20260424T222346
CREATED:20190312T093416Z
LAST-MODIFIED:20190312T093416Z
UID:9808-1554555600-1554570000@proactiveselfdefence.com
SUMMARY:MTK Grading
DESCRIPTION:
URL:https://proactiveselfdefence.com/event/mtk-grading-10/
LOCATION:Victoria
END:VEVENT
BEGIN:VEVENT
DTSTART;VALUE=DATE:20190419
DTEND;VALUE=DATE:20190420
DTSTAMP:20260424T222346
CREATED:20180918T090536Z
LAST-MODIFIED:20180918T090536Z
UID:9697-1555632000-1555718399@proactiveselfdefence.com
SUMMARY:Good Friday
DESCRIPTION:
URL:https://proactiveselfdefence.com/event/good-friday/
LOCATION:Victoria
END:VEVENT
BEGIN:VEVENT
DTSTART;VALUE=DATE:20190420
DTEND;VALUE=DATE:20190423
DTSTAMP:20260424T222346
CREATED:20180918T090703Z
LAST-MODIFIED:20180918T090703Z
UID:9699-1555718400-1555977599@proactiveselfdefence.com
SUMMARY:Easter Holiday
DESCRIPTION:
URL:https://proactiveselfdefence.com/event/easter-holiday-2/
LOCATION:Victoria
END:VEVENT
BEGIN:VEVENT
DTSTART;VALUE=DATE:20190425
DTEND;VALUE=DATE:20190426
DTSTAMP:20260424T222346
CREATED:20180918T090829Z
LAST-MODIFIED:20180918T090829Z
UID:9702-1556150400-1556236799@proactiveselfdefence.com
SUMMARY:ANZAC Day
DESCRIPTION:
URL:https://proactiveselfdefence.com/event/anzac-day-3/
LOCATION:Victoria
END:VEVENT
END:VCALENDAR