BEGIN:VCALENDAR
VERSION:2.0
PRODID:-//Proactive Self Defence - ECPv6.15.17.1//NONSGML v1.0//EN
CALSCALE:GREGORIAN
METHOD:PUBLISH
X-WR-CALNAME:Proactive Self Defence
X-ORIGINAL-URL:https://proactiveselfdefence.com
X-WR-CALDESC:Events for Proactive Self Defence
REFRESH-INTERVAL;VALUE=DURATION:PT1H
X-Robots-Tag:noindex
X-PUBLISHED-TTL:PT1H
BEGIN:VTIMEZONE
TZID:Australia/Melbourne
BEGIN:STANDARD
TZOFFSETFROM:+1100
TZOFFSETTO:+1000
TZNAME:AEST
DTSTART:20180331T160000
END:STANDARD
BEGIN:DAYLIGHT
TZOFFSETFROM:+1000
TZOFFSETTO:+1100
TZNAME:AEDT
DTSTART:20181006T160000
END:DAYLIGHT
BEGIN:STANDARD
TZOFFSETFROM:+1100
TZOFFSETTO:+1000
TZNAME:AEST
DTSTART:20190406T160000
END:STANDARD
BEGIN:DAYLIGHT
TZOFFSETFROM:+1000
TZOFFSETTO:+1100
TZNAME:AEDT
DTSTART:20191005T160000
END:DAYLIGHT
BEGIN:STANDARD
TZOFFSETFROM:+1100
TZOFFSETTO:+1000
TZNAME:AEST
DTSTART:20200404T160000
END:STANDARD
BEGIN:DAYLIGHT
TZOFFSETFROM:+1000
TZOFFSETTO:+1100
TZNAME:AEDT
DTSTART:20201003T160000
END:DAYLIGHT
END:VTIMEZONE
BEGIN:VEVENT
DTSTART;TZID=Australia/Melbourne:20190501T200000
DTEND;TZID=Australia/Melbourne:20190501T200000
DTSTAMP:20260424T204704
CREATED:20190423T101723Z
LAST-MODIFIED:20190423T101723Z
UID:9830-1556740800-1556740800@proactiveselfdefence.com
SUMMARY:Women's Self Defence Seminar
DESCRIPTION:
URL:https://proactiveselfdefence.com/event/womens-self-defence-seminar-2/
LOCATION:Victoria
END:VEVENT
BEGIN:VEVENT
DTSTART;TZID=Australia/Melbourne:20190508T193000
DTEND;TZID=Australia/Melbourne:20190508T193000
DTSTAMP:20260424T204704
CREATED:20190423T102441Z
LAST-MODIFIED:20190423T102441Z
UID:9835-1557343800-1557343800@proactiveselfdefence.com
SUMMARY:Boxing Grading
DESCRIPTION:
URL:https://proactiveselfdefence.com/event/boxing-grading-4/
LOCATION:Victoria
END:VEVENT
BEGIN:VEVENT
DTSTART;TZID=Australia/Melbourne:20190508T200000
DTEND;TZID=Australia/Melbourne:20190508T200000
DTSTAMP:20260424T204704
CREATED:20190423T101759Z
LAST-MODIFIED:20190423T101759Z
UID:9832-1557345600-1557345600@proactiveselfdefence.com
SUMMARY:Women's Self Defence Seminar
DESCRIPTION:
URL:https://proactiveselfdefence.com/event/womens-self-defence-seminar-3/
LOCATION:Victoria
END:VEVENT
BEGIN:VEVENT
DTSTART;TZID=Australia/Melbourne:20190517T180000
DTEND;TZID=Australia/Melbourne:20190517T190000
DTSTAMP:20260424T204704
CREATED:20190402T092720Z
LAST-MODIFIED:20190402T092720Z
UID:9817-1558116000-1558119600@proactiveselfdefence.com
SUMMARY:Black & Dan Squad Session
DESCRIPTION:
URL:https://proactiveselfdefence.com/event/black-dan-squad-session-7/
LOCATION:Victoria
END:VEVENT
BEGIN:VEVENT
DTSTART;TZID=Australia/Melbourne:20190521T170000
DTEND;TZID=Australia/Melbourne:20190521T170000
DTSTAMP:20260424T204704
CREATED:20190423T102628Z
LAST-MODIFIED:20190516T034141Z
UID:9837-1558458000-1558458000@proactiveselfdefence.com
SUMMARY:Parent's Night
DESCRIPTION:Thursday\, 21st May 2019 \n5:00 PM – MTK Juniors Parents Welcome \n5:40 PM – Little Dragons Parents Welcome \n6:15 PM – AFMA Juniors Parents Welcome
URL:https://proactiveselfdefence.com/event/parents-night-3/
LOCATION:Victoria
END:VEVENT
END:VCALENDAR