BEGIN:VCALENDAR
VERSION:2.0
PRODID:-//Proactive Self Defence - ECPv6.15.17.1//NONSGML v1.0//EN
CALSCALE:GREGORIAN
METHOD:PUBLISH
X-ORIGINAL-URL:https://proactiveselfdefence.com
X-WR-CALDESC:Events for Proactive Self Defence
REFRESH-INTERVAL;VALUE=DURATION:PT1H
X-Robots-Tag:noindex
X-PUBLISHED-TTL:PT1H
BEGIN:VTIMEZONE
TZID:Australia/Melbourne
BEGIN:STANDARD
TZOFFSETFROM:+1100
TZOFFSETTO:+1000
TZNAME:AEST
DTSTART:20180331T160000
END:STANDARD
BEGIN:DAYLIGHT
TZOFFSETFROM:+1000
TZOFFSETTO:+1100
TZNAME:AEDT
DTSTART:20181006T160000
END:DAYLIGHT
BEGIN:STANDARD
TZOFFSETFROM:+1100
TZOFFSETTO:+1000
TZNAME:AEST
DTSTART:20190406T160000
END:STANDARD
BEGIN:DAYLIGHT
TZOFFSETFROM:+1000
TZOFFSETTO:+1100
TZNAME:AEDT
DTSTART:20191005T160000
END:DAYLIGHT
BEGIN:STANDARD
TZOFFSETFROM:+1100
TZOFFSETTO:+1000
TZNAME:AEST
DTSTART:20200404T160000
END:STANDARD
BEGIN:DAYLIGHT
TZOFFSETFROM:+1000
TZOFFSETTO:+1100
TZNAME:AEDT
DTSTART:20201003T160000
END:DAYLIGHT
BEGIN:STANDARD
TZOFFSETFROM:+1100
TZOFFSETTO:+1000
TZNAME:AEST
DTSTART:20210403T160000
END:STANDARD
BEGIN:DAYLIGHT
TZOFFSETFROM:+1000
TZOFFSETTO:+1100
TZNAME:AEDT
DTSTART:20211002T160000
END:DAYLIGHT
END:VTIMEZONE
BEGIN:VEVENT
DTSTART;TZID=Australia/Melbourne:20191207T130000
DTEND;TZID=Australia/Melbourne:20191207T170000
DTSTAMP:20260420T210323
CREATED:20190716T101401Z
LAST-MODIFIED:20190716T102951Z
UID:9858-1575723600-1575738000@proactiveselfdefence.com
SUMMARY:MTK Grading
DESCRIPTION:
URL:https://proactiveselfdefence.com/event/mtk-grading-13/
LOCATION:Victoria
END:VEVENT
BEGIN:VEVENT
DTSTART;TZID=Australia/Melbourne:20191211T193000
DTEND;TZID=Australia/Melbourne:20191211T193000
DTSTAMP:20260420T210323
CREATED:20190716T101703Z
LAST-MODIFIED:20190716T101703Z
UID:9862-1576092600-1576092600@proactiveselfdefence.com
SUMMARY:Boxing Grading
DESCRIPTION:
URL:https://proactiveselfdefence.com/event/boxing-grading-5/
LOCATION:Victoria
END:VEVENT
BEGIN:VEVENT
DTSTART;TZID=Australia/Melbourne:20191214T183000
DTEND;TZID=Australia/Melbourne:20191214T233000
DTSTAMP:20260420T210323
CREATED:20190716T102330Z
LAST-MODIFIED:20190826T043215Z
UID:9866-1576348200-1576366200@proactiveselfdefence.com
SUMMARY:Presentation Night
DESCRIPTION:
URL:https://proactiveselfdefence.com/event/presentation-night-4/
LOCATION:Neret Receptions\, 19 Salicki Ave\, Epping\, Victoria\, 3076\, Australia
ORGANIZER;CN="Rick O'Brien":MAILTO:rick@proactiveselfdefence.com
END:VEVENT
BEGIN:VEVENT
DTSTART;VALUE=DATE:20191220
DTEND;VALUE=DATE:20200106
DTSTAMP:20260420T210323
CREATED:20190716T103251Z
LAST-MODIFIED:20190716T103251Z
UID:9870-1576800000-1578268799@proactiveselfdefence.com
SUMMARY:Academy Closed: Christmas - New Years Holiday
DESCRIPTION:
URL:https://proactiveselfdefence.com/event/academy-closed-christmas-new-years-holiday/
LOCATION:Victoria
END:VEVENT
END:VCALENDAR